BEGIN:VCALENDAR
VERSION:2.0
PRODID:-//IM-PULS - ECPv6.15.16//NONSGML v1.0//EN
CALSCALE:GREGORIAN
METHOD:PUBLISH
X-WR-CALNAME:IM-PULS
X-ORIGINAL-URL:https://im-puls-staufenberg.de
X-WR-CALDESC:Veranstaltungen für IM-PULS
REFRESH-INTERVAL;VALUE=DURATION:PT1H
X-Robots-Tag:noindex
X-PUBLISHED-TTL:PT1H
BEGIN:VTIMEZONE
TZID:Europe/Berlin
BEGIN:DAYLIGHT
TZOFFSETFROM:+0100
TZOFFSETTO:+0200
TZNAME:CEST
DTSTART:20250330T010000
END:DAYLIGHT
BEGIN:STANDARD
TZOFFSETFROM:+0200
TZOFFSETTO:+0100
TZNAME:CET
DTSTART:20251026T010000
END:STANDARD
BEGIN:DAYLIGHT
TZOFFSETFROM:+0100
TZOFFSETTO:+0200
TZNAME:CEST
DTSTART:20260329T010000
END:DAYLIGHT
BEGIN:STANDARD
TZOFFSETFROM:+0200
TZOFFSETTO:+0100
TZNAME:CET
DTSTART:20261025T010000
END:STANDARD
BEGIN:DAYLIGHT
TZOFFSETFROM:+0100
TZOFFSETTO:+0200
TZNAME:CEST
DTSTART:20270328T010000
END:DAYLIGHT
BEGIN:STANDARD
TZOFFSETFROM:+0200
TZOFFSETTO:+0100
TZNAME:CET
DTSTART:20271031T010000
END:STANDARD
END:VTIMEZONE
BEGIN:VEVENT
DTSTART;TZID=Europe/Berlin:20260426T180000
DTEND;TZID=Europe/Berlin:20260426T180000
DTSTAMP:20260426T014642
CREATED:20260110T195258Z
LAST-MODIFIED:20260113T181531Z
UID:4550-1777226400-1777226400@im-puls-staufenberg.de
SUMMARY:Sitar & Akkordeon – Reisen zwischen Kulturen
DESCRIPTION:Der italienische Akkordeonist Luciano Biondini und der österreichische Sitar-Virtuose Klaus Falschlunger erschaffen mit ihrem ausgezeichneten Programm Once in a Blue Moon musikalische Brücken zwischen Orient und Okzident\, zwischen Improvisation und meditativer Tiefe. Ihre Musik ist zugleich kraftvoll und filigran\, durchdrungen von Jazz\, indischer Klassik und mediterranen Einflüssen – ein Dialog zweier Meister ihres Fachs\, die das Publikum auf eine faszinierende Reise durch Klangfarben\, Emotionen und kulturelle Räume mitnimmt. \nFoto: Leo Fellinger
URL:https://im-puls-staufenberg.de/event/sitar-akkordeon-reisen-zwischen-kulturen/
LOCATION:Wohnzimmer – Kulturcafé Daubringen\, Friedhofstraße 11\, Staufenberg
CATEGORIES:Konzert,Kulturcafé
ATTACH;FMTTYPE=image/jpeg:https://im-puls-staufenberg.de/wp-content/uploads/2026/01/Live-Seekirchen_klein.jpg
ORGANIZER;CN="IM-PULS. Kulturpolitischer Arbeitskreis Staufenberg e.V.":MAILTO:karten@im-puls-staufenberg.de
END:VEVENT
END:VCALENDAR