BEGIN:VCALENDAR
VERSION:2.0
PRODID:-//IM-PULS - ECPv6.15.16//NONSGML v1.0//EN
CALSCALE:GREGORIAN
METHOD:PUBLISH
X-WR-CALNAME:IM-PULS
X-ORIGINAL-URL:https://im-puls-staufenberg.de
X-WR-CALDESC:Veranstaltungen für IM-PULS
REFRESH-INTERVAL;VALUE=DURATION:PT1H
X-Robots-Tag:noindex
X-PUBLISHED-TTL:PT1H
BEGIN:VTIMEZONE
TZID:Europe/Berlin
BEGIN:DAYLIGHT
TZOFFSETFROM:+0100
TZOFFSETTO:+0200
TZNAME:CEST
DTSTART:20230326T010000
END:DAYLIGHT
BEGIN:STANDARD
TZOFFSETFROM:+0200
TZOFFSETTO:+0100
TZNAME:CET
DTSTART:20231029T010000
END:STANDARD
BEGIN:DAYLIGHT
TZOFFSETFROM:+0100
TZOFFSETTO:+0200
TZNAME:CEST
DTSTART:20240331T010000
END:DAYLIGHT
BEGIN:STANDARD
TZOFFSETFROM:+0200
TZOFFSETTO:+0100
TZNAME:CET
DTSTART:20241027T010000
END:STANDARD
BEGIN:DAYLIGHT
TZOFFSETFROM:+0100
TZOFFSETTO:+0200
TZNAME:CEST
DTSTART:20250330T010000
END:DAYLIGHT
BEGIN:STANDARD
TZOFFSETFROM:+0200
TZOFFSETTO:+0100
TZNAME:CET
DTSTART:20251026T010000
END:STANDARD
END:VTIMEZONE
BEGIN:VEVENT
DTSTART;TZID=Europe/Berlin:20240829T173000
DTEND;TZID=Europe/Berlin:20240829T173000
DTSTAMP:20260426T022457
CREATED:20240818T135544Z
LAST-MODIFIED:20240825T214149Z
UID:3658-1724952600-1724952600@im-puls-staufenberg.de
SUMMARY:Momente --- Vernissage zur Ausstellung Andrea Schuch und Dáša Künzel
DESCRIPTION:Momente\, eingefangen wie Schnappschüsse\, flüchtig und doch bleibend\, so nennen Andrea Schuch und Dáša Künzel ihre Ausstellung. In den Mittelpunkt stellen sie die Darstellung von Menschen in besonderen Momenten des Lebens. Sie zeigen Arbeiten in Acryl in unterschiedlichen Techniken. Jede von ihnen beiden hat ihren Bildern eine eigene Überschrift gegeben. \nDášas Bilder stehen unter dem Motto „Entfesselt“ – dramatische Momente\, Energie der Farben in bewegenden Spannungsfeldern zwischen Stärke\, Stolz\, Trotz und Gelassenheit und stillem Glück.\n„Augenblicke“ nennt Andrea ihre Sammlung von ausgewählten Momenten\, die überraschende Gefühlswelten in uns erwecken\, ausgelöst besonders durch ihre Interpretation von Augen und deren Blicke – diesen Augenblicken.  \n \nDie musikalische Umrahmung der Vernissage gestaltet Sven Görtz.\nEintritt frei
URL:https://im-puls-staufenberg.de/event/vernissage-ausstellung-andrea-schuch-und-dagmar-kuenzel/
LOCATION:Wohnzimmer – Kulturcafé Daubringen\, Friedhofstraße 11\, Staufenberg
CATEGORIES:Ausstellung,Termine
ATTACH;FMTTYPE=image/jpeg:https://im-puls-staufenberg.de/wp-content/uploads/2024/08/Bild-mit-nur-Augen-3.jpg
ORGANIZER;CN="IM-PULS. Kulturpolitischer Arbeitskreis Staufenberg e.V.":MAILTO:karten@im-puls-staufenberg.de
END:VEVENT
END:VCALENDAR