BEGIN:VCALENDAR
VERSION:2.0
PRODID:-//IM-PULS - ECPv6.15.16//NONSGML v1.0//EN
CALSCALE:GREGORIAN
METHOD:PUBLISH
X-ORIGINAL-URL:https://im-puls-staufenberg.de
X-WR-CALDESC:Veranstaltungen für IM-PULS
REFRESH-INTERVAL;VALUE=DURATION:PT1H
X-Robots-Tag:noindex
X-PUBLISHED-TTL:PT1H
BEGIN:VTIMEZONE
TZID:Europe/Berlin
BEGIN:DAYLIGHT
TZOFFSETFROM:+0100
TZOFFSETTO:+0200
TZNAME:CEST
DTSTART:20250330T010000
END:DAYLIGHT
BEGIN:STANDARD
TZOFFSETFROM:+0200
TZOFFSETTO:+0100
TZNAME:CET
DTSTART:20251026T010000
END:STANDARD
BEGIN:DAYLIGHT
TZOFFSETFROM:+0100
TZOFFSETTO:+0200
TZNAME:CEST
DTSTART:20260329T010000
END:DAYLIGHT
BEGIN:STANDARD
TZOFFSETFROM:+0200
TZOFFSETTO:+0100
TZNAME:CET
DTSTART:20261025T010000
END:STANDARD
BEGIN:DAYLIGHT
TZOFFSETFROM:+0100
TZOFFSETTO:+0200
TZNAME:CEST
DTSTART:20270328T010000
END:DAYLIGHT
BEGIN:STANDARD
TZOFFSETFROM:+0200
TZOFFSETTO:+0100
TZNAME:CET
DTSTART:20271031T010000
END:STANDARD
END:VTIMEZONE
BEGIN:VEVENT
DTSTART;TZID=Europe/Berlin:20260619T200000
DTEND;TZID=Europe/Berlin:20260619T200000
DTSTAMP:20260424T224415
CREATED:20260124T185759Z
LAST-MODIFIED:20260212T135526Z
UID:4581-1781899200-1781899200@im-puls-staufenberg.de
SUMMARY:Bluesrange - Let`s rock some Blues!
DESCRIPTION:Blues ist keine traurige Musik deprimierter alter Männer in schwarzen Anzügen. Blues ist Feiern\, Tanzen und Seelenstreicheln. „Ach\, das ist Blues?“ ist eine häufige Reaktion nach den Auftritten der Band. Musikalisch bleibt sie dem rockigeren Blues treu – BluesRock’n’Rollin’ beschreibt den Stil treffend. Mit der Doppelspitze am Gesang (Lisa Elbert\, Walter Krombach)\, dem Solistenduo aus Harp und Gitarre (Daniel Scheidel\, Heinz Gabler) sowie der groovenden Rhythmusgruppe (Stefan Gawrich – Bass\,\nRoland Sommer – Drums) ist von Beginn an klar: It’s Bluesrange time! \n 
URL:https://im-puls-staufenberg.de/event/bluesrange-lets-rock-some-blues/
LOCATION:Wohnzimmer – Kulturcafé Daubringen\, Friedhofstraße 11\, Staufenberg
CATEGORIES:Konzert,Termine
ATTACH;FMTTYPE=image/jpeg:https://im-puls-staufenberg.de/wp-content/uploads/2026/01/Bluesrange_2.jpg
ORGANIZER;CN="IM-PULS. Kulturpolitischer Arbeitskreis Staufenberg e.V.":MAILTO:karten@im-puls-staufenberg.de
END:VEVENT
END:VCALENDAR